Workbook

Sheet 部品表
A1: LP-MD-01 小型 DC モーター駆動基板 — 部品表(BOM) 版 A 2026-10-20
A2: 部品 123 個・65 行。使用率の最大は『定格の確かめ』シートの式から。値は parts.py・design.py と同じ。
A4: 行 | B4: 部品番号 | C4: 数量 | D4: 値 | E4: 型番 | F4: メーカー | G4: パッケージ | H4: 定格 | I4: 説明 | J4: 使用率の最大 | K4: 判定
A5: 1 | B5: C1 | C5: 1 | D5: 100nF | E5: GRM188R72A104KA35D | F5: Murata | G5: 0603 | H5: 100 V ・ X7R | I5: ゲート-出力間(立ち上がりの傾き) | J5: =MAX(定格の確かめ!H5:H5) -> 0.12 | K5: =IF(COUNTIF(定格の確かめ!J5:J5,"要確認")>0,"要確認","OK") -> OK
A6: 2 | B6: C2 | C6: 1 | D6: 47µF | E6: EEE-FK1J470P | F6: Panasonic | G6: SMD 電解 | H6: 63 V ・ 105 °C | I6: 入力のバルク(LC 共振の制動) | J6: =MAX(定格の確かめ!H6:H8) -> 0.71925281 | K6: =IF(COUNTIF(定格の確かめ!J6:J8,"要確認")>0,"要確認","OK") -> OK
A7: 3 | B7: C3–C8 | C7: 6 | D7: 2.2µF | E7: GRM32ER72A225KA35L | F7: Murata | G7: 1210 | H7: 100 V ・ X7R | I7: TPS54560 の入力のセラミック | J7: =MAX(定格の確かめ!H9:H20) -> 0.533 | K7: =IF(COUNTIF(定格の確かめ!J9:J20,"要確認")>0,"要確認","OK") -> OK
A8: 4 | B8: C9, C16, C29, C31–C36, C39 | C8: 10 | D8: 100nF | E8: GRM188R71H104KA93D | F8: Murata | G8: 0603 | H8: 50 V ・ X7R | I8: FPGA へのアナログのフィルター(1.6 kHz) / INA240 の電源 / LM393 の電源 ほか | J8: =MAX(定格の確かめ!H21:H30) -> 0.24697051 | K8: =IF(COUNTIF(定格の確かめ!J21:J30,"要確認")>0,"要確認","OK") -> OK
A9: 5 | B9: C10–C12 | C9: 3 | D9: 22µF | E9: GRM32ER71E226KE15L | F9: Murata | G9: 1210 | H9: 25 V ・ X7R | I9: 12 V の出力のセラミック | J9: =MAX(定格の確かめ!H31:H36) -> 0.636 | K9: =IF(COUNTIF(定格の確かめ!J31:J36,"要確認")>0,"要確認","OK") -> OK
A10: 6 | B10: C13 | C10: 1 | D10: 47nF | E10: GRM188R71H473KA61D | F10: Murata | G10: 0603 | H10: 50 V ・ X7R | I10: 位相補償(ゼロ) | J10: =MAX(定格の確かめ!H37:H37) -> 0.06 | K10: =IF(COUNTIF(定格の確かめ!J37:J37,"要確認")>0,"要確認","OK") -> OK
A11: 7 | B11: C14, C37, C38 | C11: 3 | D11: 220pF | E11: GRM1885C1H221JA01D | F11: Murata | G11: 0603 | H11: 50 V ・ C0G | I11: エンコーダー A のフィルター / エンコーダー B のフィルター / 位相補償(極) | J11: =MAX(定格の確かめ!H38:H40) -> 0.1 | K11: =IF(COUNTIF(定格の確かめ!J38:J40,"要確認")>0,"要確認","OK") -> OK
A12: 8 | B12: C15, C23, C24 | C12: 3 | D12: 10µF | E12: GRM31CR71E106KA12L | F12: Murata | G12: 1206 | H12: 25 V ・ X7R | I12: TPS54202 の入力 / ブリッジの脚の近くのセラミック | J12: =MAX(定格の確かめ!H41:H43) -> 0.49394101 | K12: =IF(COUNTIF(定格の確かめ!J41:J43,"要確認")>0,"要確認","OK") -> OK
A13: 9 | B13: C17, C18 | C13: 2 | D13: 22µF | E13: GRM31CR71A226KE15L | F13: Murata | G13: 1206 | H13: 10 V ・ X7R | I13: 3.3 V の出力 | J13: =MAX(定格の確かめ!H44:H45) -> 0.33 | K13: =IF(COUNTIF(定格の確かめ!J44:J45,"要確認")>0,"要確認","OK") -> OK
A14: 10 | B14: C19 | C14: 1 | D14: 56pF | E14: GRM1885C1H560JA01D | F14: Murata | G14: 0603 | H14: 50 V ・ C0G | I14: 前置き(位相を進める) | J14: =MAX(定格の確かめ!H46:H46) -> 0.066 | K14: =IF(COUNTIF(定格の確かめ!J46:J46,"要確認")>0,"要確認","OK") -> OK
A15: 11 | B15: C20, C21 | C15: 2 | D15: 2.2µF | E15: GRM188R61E225KA12D | F15: Murata | G15: 0603 | H15: 25 V ・ X5R | I15: TPS70950 の入力 / TPS70950 の出力(2.2 µF 以上) | J15: =MAX(定格の確かめ!H47:H48) -> 0.49394101 | K15: =IF(COUNTIF(定格の確かめ!J47:J48,"要確認")>0,"要確認","OK") -> OK
A16: 12 | B16: C22 | C16: 1 | D16: 330µF | E16: EEH-ZA1E331P | F16: Panasonic | G16: φ10 × 10.2 mm | H16: 25 V ・ 2.5 A rms ・ 20 mΩ | I16: H ブリッジのバルク(ハイブリッド高分子) | J16: =MAX(定格の確かめ!H49:H51) -> 0.96 | K16: =IF(COUNTIF(定格の確かめ!J49:J51,"要確認")>0,"要確認","OK") -> OK
A17: 13 | B17: C25–C28 | C17: 4 | D17: 1µF | E17: GRM188R71E105KA12D | F17: Murata | G17: 0603 | H17: 25 V ・ X7R | I17: IR2184 の VCC / ブートストラップのコンデンサー(A 側) / ブートストラップのコンデンサー(B 側) | J17: =MAX(定格の確かめ!H52:H55) -> 0.49394101 | K17: =IF(COUNTIF(定格の確かめ!J52:J55,"要確認")>0,"要確認","OK") -> OK
A18: 14 | B18: C30 | C18: 1 | D18: 1nF | E18: GRM1885C1H102JA01D | F18: Murata | G18: 0603 | H18: 50 V ・ C0G | I18: 比較器の前のノイズ除去(τ = 1 µs) | J18: =MAX(定格の確かめ!H56:H56) -> 0.066 | K18: =IF(COUNTIF(定格の確かめ!J56:J56,"要確認")>0,"要確認","OK") -> OK
A19: 15 | B19: D1 | C19: 1 | D19: SMBJ33A | E19: SMBJ33A | F19: Littelfuse | G19: SMB (DO-214AA) | H19: VRWM 33 V ・ VC 53.3 V @ 11.3 A | I19: 入力の過電圧を抑える TVS(600 W) | J19: =MAX(定格の確かめ!H57:H57) -> 0.90909091 | K19: =IF(COUNTIF(定格の確かめ!J57:J57,"要確認")>0,"要確認","OK") -> OK
A20: 16 | B20: D2 | C20: 1 | D20: BZT52C12 | E20: BZT52C12-7-F | F20: Diodes Inc. | G20: SOD-123 | H20: 12 V ・ 500 mW | I20: P-MOSFET のゲート保護ツェナー(12 V) | J20: =MAX(定格の確かめ!H58:H58) -> 0.018209362 | K20: =IF(COUNTIF(定格の確かめ!J58:J58,"要確認")>0,"要確認","OK") -> OK
A21: 17 | B21: D3 | C21: 1 | D21: B560C | E21: B560C-13-F | F21: Diodes Inc. | G21: SMC (DO-214AB) | H21: 60 V ・ 5 A | I21: 降圧の整流ショットキー(60 V・5 A) | J21: =MAX(定格の確かめ!H59:H61) -> 0.88833333 | K21: =IF(COUNTIF(定格の確かめ!J59:J61,"要確認")>0,"要確認","OK") -> OK
A22: 18 | B22: D4 | C22: 1 | D22: 緑 | E22: LTST-C191KGKT | F22: Lite-On | G22: 0603 | H22: 20 mA | I22: 3.3 V の表示(PWR) | J22: =MAX(定格の確かめ!H62:H62) -> 0.065 | K22: =IF(COUNTIF(定格の確かめ!J62:J62,"要確認")>0,"要確認","OK") -> OK
A23: 19 | B23: D5 | C23: 1 | D23: SMBJ13A | E23: SMBJ13A | F23: Littelfuse | G23: SMB (DO-214AA) | H23: VRWM 13 V ・ VC 21.5 V @ 27.9 A | I23: 回生で 12 V が上がるのを抑える TVS | J23: =MAX(定格の確かめ!H63:H63) -> 0.94988656 | K23: =IF(COUNTIF(定格の確かめ!J63:J63,"要確認")>0,"要確認","OK") -> OK
A24: 20 | B24: D6, D7 | C24: 2 | D24: 1N4148WS | E24: 1N4148WS-7-F | F24: Diodes Inc. | G24: SOD-323 | H24: 75 V ・ 150 mA ・ trr 4 ns | I24: ブートストラップのダイオード(A 側) / ブートストラップのダイオード(B 側) | J24: =MAX(定格の確かめ!H64:H67) -> 0.28666667 | K24: =IF(COUNTIF(定格の確かめ!J64:J67,"要確認")>0,"要確認","OK") -> OK
A25: 21 | B25: D8 | C25: 1 | D25: 赤 | E25: LTST-C191KRKT | F25: Lite-On | G25: 0603 | H25: 20 mA | I25: 停止中(過電流のラッチ)の表示 | J25: =MAX(定格の確かめ!H68:H68) -> 0.065 | K25: =IF(COUNTIF(定格の確かめ!J68:J68,"要確認")>0,"要確認","OK") -> OK
A26: 22 | B26: F1 | C26: 1 | D26: 5 A | E26: 0451005.MRL | F26: Littelfuse | G26: 2410 (NANO2) | H26: 5 A ・ 125 V ・ 遮断 300 A DC | I26: ヒューズ(速断) | J26: =MAX(定格の確かめ!H69:H70) -> 0.57152242 | K26: =IF(COUNTIF(定格の確かめ!J69:J70,"要確認")>0,"要確認","OK") -> OK
A27: 23 | B27: H1–H4 | C27: 4 | D27: M3 | E27: — | F27: — | G27: Ø3.2 穴・Ø6 ランド | I27: 取付穴(M3) | J27: — | K27: —
A28: 24 | B28: J1 | C28: 1 | D28: 入力 24 V | E28: 1715721 | F28: Phoenix Contact | G28: MKDS 1,5/2-5,08 | H28: 17.5 A ・ 250 V | I28: 電源の入力の端子台(2 極) | J28: =MAX(定格の確かめ!H71:H72) -> 0.2132 | K28: =IF(COUNTIF(定格の確かめ!J71:J72,"要確認")>0,"要確認","OK") -> OK
A29: 25 | B29: J2 | C29: 1 | D29: FPGA 2×7 | E29: 61201421621 | F29: Würth Elektronik | G29: 2 × 7 ボックスヘッダー 2.54 mm | H29: 3 A ・ 250 V | I29: FPGA への接続 | J29: =MAX(定格の確かめ!H73:H73) -> 0.033333333 | K29: =IF(COUNTIF(定格の確かめ!J73:J73,"要確認")>0,"要確認","OK") -> OK
A30: 26 | B30: J3 | C30: 1 | D30: モーター | E30: 1715721 | F30: Phoenix Contact | G30: MKDS 1,5/2-5,08 | H30: 17.5 A ・ 250 V | I30: モーターの端子台(2 極) | J30: =MAX(定格の確かめ!H74:H74) -> 0.34285714 | K30: =IF(COUNTIF(定格の確かめ!J74:J74,"要確認")>0,"要確認","OK") -> OK
A31: 27 | B31: J4 | C31: 1 | D31: エンコーダー | E31: B4B-XH-A(LF)(SN) | F31: JST | G31: XH 4 極 | H31: 3 A ・ 250 V | I31: エンコーダーの接続(5 V・A・B・GND) | J31: =MAX(定格の確かめ!H75:H75) -> 0.016666667 | K31: =IF(COUNTIF(定格の確かめ!J75:J75,"要確認")>0,"要確認","OK") -> OK
A32: 28 | B32: J5 | C32: 1 | D32: UART | E32: B4B-PH-K-S(LF)(SN) | F32: JST | G32: PH 4 極 | H32: 2 A ・ 100 V | I32: UART の外への接続(3.3 V・TX・RX・GND) | J32: =MAX(定格の確かめ!H76:H76) -> 0.05 | K32: =IF(COUNTIF(定格の確かめ!J76:J76,"要確認")>0,"要確認","OK") -> OK
A33: 29 | B33: L1 | C33: 1 | D33: 22µH | E33: SRP1265A-220M | F33: Bourns | G33: 12.5 × 12.5 mm | H33: Isat 12 A ・ Irms 9 A ・ DCR 37 mΩ max | I33: 12 V 降圧のインダクター | J33: =MAX(定格の確かめ!H77:H78) -> 0.45077251 | K33: =IF(COUNTIF(定格の確かめ!J77:J78,"要確認")>0,"要確認","OK") -> OK
A34: 30 | B34: L2 | C34: 1 | D34: 10µH | E34: SRN6045TA-100M | F34: Bourns | G34: 6.0 × 6.0 mm | H34: Isat 4.6 A ・ Irms 3.2 A | I34: 3.3 V 降圧のインダクター | J34: =MAX(定格の確かめ!H79:H80) -> 0.84782609 | K34: =IF(COUNTIF(定格の確かめ!J79:J80,"要確認")>0,"要確認","OK") -> OK
A35: 31 | B35: Q1, Q2 | C35: 2 | D35: SQD50P06-15L | E35: SQD50P06-15L-GE3 | F35: Vishay | G35: DPAK (TO-252) | H35: −60 V ・ −50 A ・ 15.5 mΩ | I35: 突入電流の抑制(ゆっくりオン) / 逆接続の阻止 | J35: =MAX(定格の確かめ!H81:H86) -> 0.88833333 | K35: =IF(COUNTIF(定格の確かめ!J81:J86,"要確認")>0,"要確認","OK") -> OK
A36: 32 | B36: Q3–Q6 | C36: 4 | D36: CSD18531Q5A | E36: CSD18531Q5A | F36: Texas Instruments | G36: SON 5 × 6 mm | H36: 60 V ・ 4.6 mΩ max ・ Qg 36 nC | I36: H ブリッジ A 側のハイサイド / H ブリッジ A 側のローサイド / H ブリッジ B 側のハイサイド ほか | J36: =MAX(定格の確かめ!H87:H102) -> 0.46966722 | K36: =IF(COUNTIF(定格の確かめ!J87:J102,"要確認")>0,"要確認","OK") -> OK
A37: 33 | B37: R1, R9, R17–R20, R28–R31 | C37: 10 | D37: 100k | E37: RC0603FR-07100KL | F37: Yageo | G37: 0603 | H37: 1 % ・ 0.1 W ・ 75 V | I37: DIR の引き下げ(FPGA が動く前は止める) / EN の引き下げ(FPGA が動く前は止める) / PWM_A の引き下げ(FPGA が動く前は止める) ほか | J37: =MAX(定格の確かめ!H103:H122) -> 0.16 | K37: =IF(COUNTIF(定格の確かめ!J103:J122,"要確認")>0,"要確認","OK") -> OK
A38: 34 | B38: R2 | C38: 1 | D38: 47k | E38: RC0603FR-0747KL | F38: Yageo | G38: 0603 | H38: 1 % ・ 0.1 W ・ 75 V | I38: ゲートの引き下げ(ランプの速さを決める) | J38: =MAX(定格の確かめ!H123:H124) -> 0.55066667 | K38: =IF(COUNTIF(定格の確かめ!J123:J124,"要確認")>0,"要確認","OK") -> OK
A39: 35 | B39: R3 | C39: 1 | D39: 442k | E39: RC0603FR-07442KL | F39: Yageo | G39: 0603 | H39: 1 % ・ 0.1 W ・ 75 V | I39: UVLO の上側 | J39: =MAX(定格の確かめ!H125:H126) -> 0.71066667 | K39: =IF(COUNTIF(定格の確かめ!J125:J126,"要確認")>0,"要確認","OK") -> OK
A40: 36 | B40: R4 | C40: 1 | D40: 34.8k | E40: RC0603FR-0734K8L | F40: Yageo | G40: 0603 | H40: 1 % ・ 0.1 W ・ 75 V | I40: UVLO の下側 | J40: =MAX(定格の確かめ!H127:H128) -> 0.053847745 | K40: =IF(COUNTIF(定格の確かめ!J127:J128,"要確認")>0,"要確認","OK") -> OK
A41: 37 | B41: R5 | C41: 1 | D41: 243k | E41: RC0603FR-07243KL | F41: Yageo | G41: 0603 | H41: 1 % ・ 0.1 W ・ 75 V | I41: スイッチング周波数 400 kHz | J41: =MAX(定格の確かめ!H129:H130) -> 0.0066666667 | K41: =IF(COUNTIF(定格の確かめ!J129:J130,"要確認")>0,"要確認","OK") -> OK
A42: 38 | B42: R6 | C42: 1 | D42: 140k | E42: RC0603FR-07140KL | F42: Yageo | G42: 0603 | H42: 1 % ・ 0.1 W ・ 75 V | I42: 帰還の上側 | J42: =MAX(定格の確かめ!H131:H132) -> 0.15398034 | K42: =IF(COUNTIF(定格の確かめ!J131:J132,"要確認")>0,"要確認","OK") -> OK
A43: 39 | B43: R7, R27 | C43: 2 | D43: 10k | E43: RC0603FR-0710KL | F43: Yageo | G43: 0603 | H43: 1 % ・ 0.1 W ・ 75 V | I43: 帰還の下側 / 比較器の出力の引き上げ | J43: =MAX(定格の確かめ!H133:H136) -> 0.044 | K43: =IF(COUNTIF(定格の確かめ!J133:J136,"要確認")>0,"要確認","OK") -> OK
A44: 40 | B44: R8 | C44: 1 | D44: 28.7k | E44: RC0603FR-0728K7L | F44: Yageo | G44: 0603 | H44: 1 % ・ 0.1 W ・ 75 V | I44: 位相補償の抵抗 | J44: =MAX(定格の確かめ!H137:H138) -> 0.013333333 | K44: =IF(COUNTIF(定格の確かめ!J137:J138,"要確認")>0,"要確認","OK") -> OK
A45: 41 | B45: R10 | C45: 1 | D45: 22.1k | E45: RC0603FR-0722K1L | F45: Yageo | G45: 0603 | H45: 1 % ・ 0.1 W ・ 75 V | I45: 帰還の下側 | J45: =MAX(定格の確かめ!H139:H140) -> 0.008 | K45: =IF(COUNTIF(定格の確かめ!J139:J140,"要確認")>0,"要確認","OK") -> OK
A46: 42 | B46: R11, R22, R23, R32, R35, R36 | C46: 6 | D46: 1k | E46: RC0603FR-071KL | F46: Yageo | G46: 0603 | H46: 1 % ・ 0.1 W ・ 75 V | I46: FAULT の LED の電流 / FPGA へのアナログのフィルター / PWR の LED の電流(1.3 mA) ほか | J46: =MAX(定格の確かめ!H141:H152) -> 0.0289 | K46: =IF(COUNTIF(定格の確かめ!J141:J152,"要確認")>0,"要確認","OK") -> OK
A47: 43 | B47: R12–R16 | C47: 5 | D47: 10Ω | E47: RC0603FR-0710RL | F47: Yageo | G47: 0603 | H47: 1 % ・ 0.1 W ・ 75 V | I47: ゲートドライバーの電源のフィルター / ハイサイドのゲート抵抗(A) / ハイサイドのゲート抵抗(B) ほか | J47: =MAX(定格の確かめ!H153:H157) -> 0.0516 | K47: =IF(COUNTIF(定格の確かめ!J153:J157,"要確認")>0,"要確認","OK") -> OK
A48: 44 | B48: R21 | C48: 1 | D48: 5mΩ | E48: WSL2512R0050FEA | F48: Vishay Dale | G48: 2512 | H48: 1 % ・ 1 W | I48: モーター電流のシャント抵抗 | J48: =MAX(定格の確かめ!H158:H158) -> 0.28125 | K48: =IF(COUNTIF(定格の確かめ!J158:J158,"要確認")>0,"要確認","OK") -> OK
A49: 45 | B49: R24, R26 | C49: 2 | D49: 9.09k | E49: RC0603FR-079K09L | F49: Yageo | G49: 0603 | H49: 1 % ・ 0.1 W ・ 75 V | I49: しきい値の分圧(上) / しきい値の分圧(下) | J49: =MAX(定格の確かめ!H159:H162) -> 0.01205425 | K49: =IF(COUNTIF(定格の確かめ!J159:J162,"要確認")>0,"要確認","OK") -> OK
A50: 46 | B50: R25 | C50: 1 | D50: 15k | E50: RC0603FR-0715KL | F50: Yageo | G50: 0603 | H50: 1 % ・ 0.1 W ・ 75 V | I50: しきい値の分圧(中) | J50: =MAX(定格の確かめ!H163:H164) -> 0.019891501 | K50: =IF(COUNTIF(定格の確かめ!J163:J164,"要確認")>0,"要確認","OK") -> OK
A51: 47 | B51: R33, R34 | C51: 2 | D51: 2.2k | E51: RC0603FR-072K2L | F51: Yageo | G51: 0603 | H51: 1 % ・ 0.1 W ・ 75 V | I51: エンコーダー A の引き上げ / エンコーダー B の引き上げ | J51: =MAX(定格の確かめ!H165:H168) -> 0.11363636 | K51: =IF(COUNTIF(定格の確かめ!J165:J168,"要確認")>0,"要確認","OK") -> OK
A52: 48 | B52: R37, R38 | C52: 2 | D52: 33Ω | E52: RC0603FR-0733RL | F52: Yageo | G52: 0603 | H52: 1 % ・ 0.1 W ・ 75 V | I52: FPGA への線の整合(A) / FPGA への線の整合(B) | J52: =MAX(定格の確かめ!H169:H172) -> 0.003030303 | K52: =IF(COUNTIF(定格の確かめ!J169:J172,"要確認")>0,"要確認","OK") -> OK
A53: 49 | B53: R39, R40 | C53: 2 | D53: 100Ω | E53: RC0603FR-07100RL | F53: Yageo | G53: 0603 | H53: 1 % ・ 0.1 W ・ 75 V | I53: UART の直列抵抗(RX) / UART の直列抵抗(TX) | J53: =MAX(定格の確かめ!H173:H176) -> 0.0013333333 | K53: =IF(COUNTIF(定格の確かめ!J173:J176,"要確認")>0,"要確認","OK") -> OK
A54: 50 | B54: TP1 | C54: 1 | D54: VIN_P | E54: 5015 | F54: Keystone | G54: SMD 3.4 × 1.8 mm | I54: テストポイント(VIN_P) | J54: — | K54: —
A55: 51 | B55: TP2 | C55: 1 | D55: +12V | E55: 5015 | F55: Keystone | G55: SMD 3.4 × 1.8 mm | I55: テストポイント(+12V) | J55: — | K55: —
A56: 52 | B56: TP3 | C56: 1 | D56: +3V3 | E56: 5015 | F56: Keystone | G56: SMD 3.4 × 1.8 mm | I56: テストポイント(+3V3) | J56: — | K56: —
A57: 53 | B57: TP4 | C57: 1 | D57: GND | E57: 5015 | F57: Keystone | G57: SMD 3.4 × 1.8 mm | I57: テストポイント(GND) | J57: — | K57: —
A58: 54 | B58: TP5 | C58: 1 | D58: ISENSE | E58: 5015 | F58: Keystone | G58: SMD 3.4 × 1.8 mm | I58: テストポイント(電流のアナログ) | J58: — | K58: —
A59: 55 | B59: U1 | C59: 1 | D59: TPS54560 | E59: TPS54560DDAR | F59: Texas Instruments | G59: HSOIC-8 (DDA) | H59: 4.5〜60 V ・ 5 A | I59: 12 V 降圧 DC-DC(60 V・5 A) | J59: =MAX(定格の確かめ!H177:H179) -> 0.85861431 | K59: =IF(COUNTIF(定格の確かめ!J177:J179,"要確認")>0,"要確認","OK") -> OK
A60: 56 | B60: U2 | C60: 1 | D60: TPS54202 | E60: TPS54202DDCR | F60: Texas Instruments | G60: SOT-23-6 (DDC) | H60: 4.5〜28 V ・ 2 A | I60: 3.3 V 降圧 DC-DC(28 V・2 A) | J60: =MAX(定格の確かめ!H180:H182) -> 0.76785714 | K60: =IF(COUNTIF(定格の確かめ!J180:J182,"要確認")>0,"要確認","OK") -> OK
A61: 57 | B61: U3, U4 | C61: 2 | D61: IR2184S | E61: IR2184STRPBF | F61: Infineon | G61: SOIC-8 | H61: VCC 10〜20 V ・ 1.9 / 2.3 A | I61: ハーフブリッジのゲートドライバー(A 側・デッドタイム 400 ns) / ハーフブリッジのゲートドライバー(B 側・デッドタイム 400 ns) | J61: =MAX(定格の確かめ!H183:H186) -> 0.86 | K61: =IF(COUNTIF(定格の確かめ!J183:J186,"要確認")>0,"要確認","OK") -> OK
A62: 58 | B62: U5 | C62: 1 | D62: TPS70950 | E62: TPS70950DRVR | F62: Texas Instruments | G62: WSON-6 (DRV) | H62: 2.7〜30 V ・ 150 mA | I62: エンコーダー用 5 V(LDO・150 mA) | J62: =MAX(定格の確かめ!H187:H189) -> 0.71666667 | K62: =IF(COUNTIF(定格の確かめ!J187:J189,"要確認")>0,"要確認","OK") -> OK
A63: 59 | B63: U6 | C63: 1 | D63: INA240A1 | E63: INA240A1PWR | F63: Texas Instruments | G63: TSSOP-8 | H63: VS 2.7〜5.5 V ・ VCM −4〜80 V | I63: 電流検出の増幅(20 倍・PWM の同相ノイズを除く) | J63: =MAX(定格の確かめ!H190:H191) -> 0.51724138 | K63: =IF(COUNTIF(定格の確かめ!J190:J191,"要確認")>0,"要確認","OK") -> OK
A64: 60 | B64: U7, U8 | C64: 2 | D64: 74LVC1G157 | E64: SN74LVC1G157DBVR | F64: Texas Instruments | G64: SOT-23-6 | H64: 1.65〜5.5 V | I64: A 側の入力の選択(DIR で PWM_A / PWM_B を入れ替え) / B 側の入力の選択 | J64: =MAX(定格の確かめ!H192:H193) -> 0.6 | K64: =IF(COUNTIF(定格の確かめ!J192:J193,"要確認")>0,"要確認","OK") -> OK
A65: 61 | B65: U9 | C65: 1 | D65: 74LVC1G74 | E65: SN74LVC1G74DCUR | F65: Texas Instruments | G65: VSSOP-8 | H65: 1.65〜5.5 V | I65: 過電流のラッチ(EN の立ち上がりで解除) | J65: =MAX(定格の確かめ!H194:H194) -> 0.6 | K65: =IF(COUNTIF(定格の確かめ!J194:J194,"要確認")>0,"要確認","OK") -> OK
A66: 62 | B66: U10 | C66: 1 | D66: 74LVC1G08 | E66: SN74LVC1G08DBVR | F66: Texas Instruments | G66: SOT-23-5 | H66: 1.65〜5.5 V | I66: nSD = EN かつ ラッチ | J66: =MAX(定格の確かめ!H195:H195) -> 0.6 | K66: =IF(COUNTIF(定格の確かめ!J195:J195,"要確認")>0,"要確認","OK") -> OK
A67: 63 | B67: U11 | C67: 1 | D67: LM393 | E67: LM393DR | F67: Texas Instruments | G67: SOIC-8 | H67: 2〜36 V ・ 応答 1.3 µs | I67: 過電流の窓コンパレーター(±7.5 A) | J67: =MAX(定格の確かめ!H196:H197) -> 0.59722222 | K67: =IF(COUNTIF(定格の確かめ!J196:J197,"要確認")>0,"要確認","OK") -> OK
A68: 64 | B68: U12 | C68: 1 | D68: 74LVC2G17 | E68: SN74LVC2G17DBVR | F68: Texas Instruments | G68: SOT-23-6 | H68: 1.65〜5.5 V | I68: エンコーダーのシュミット・バッファー(入力は 5 V まで) | J68: =MAX(定格の確かめ!H198:H198) -> 0.90909091 | K68: =IF(COUNTIF(定格の確かめ!J198:J198,"要確認")>0,"要確認","OK") -> OK
A69: 65 | B69: U13 | C69: 1 | D69: TPD4E05U06 | E69: TPD4E05U06DQAR | F69: Texas Instruments | G69: USON-10 | H69: VRWM 5.5 V ・ ±12 kV(接触) | I69: コネクターの線の ESD 保護(4 本) | J69: =MAX(定格の確かめ!H199:H199) -> 0.90909091 | K69: =IF(COUNTIF(定格の確かめ!J199:J199,"要確認")>0,"要確認","OK") -> OK
B71: 合計の数量 | C71: =SUM(C5:C69) -> 123

Sheet 定格の確かめ
A1: LP-MD-01 定格の確かめ(使用率 = 使用値 ÷ 定格)
A2: 使用率・判定はセルの式。目安を超えると『要確認』。温度は 接合温度 ÷ 最大の接合温度。
A4: 行 | B4: 部品番号 | C4: 型番 | D4: 項目 | E4: 使用値 | F4: 定格 | G4: 単位 | H4: 使用率 | I4: 目安 | J4: 判定 | K4: 根拠・注
A5: 1 | B5: C1 | C5: GRM188R72A104KA35D | D5: 電圧 | E5: 12 | F5: 100 | G5: V | H5: =IF(F5=0,"",E5/F5) -> 0.12 | I5: 0.8 | J5: =IF(H5="","",IF(H5<=I5,"OK","要確認")) -> OK
A6: 2 | B6: C2 | C6: EEE-FK1J470P | D6: 電圧(定常) | E6: 30 | F6: 63 | G6: V | H6: =IF(F6=0,"",E6/F6) -> 0.47619048 | I6: 0.8 | J6: =IF(H6="","",IF(H6<=I6,"OK","要確認")) -> OK
A7: 2 | B7: C2 | C7: EEE-FK1J470P | D7: 電圧(サージ) | E7: 53.3 | F7: 79 | G7: V | H7: =IF(F7=0,"",E7/F7) -> 0.67468354 | I7: 0.9 | J7: =IF(H7="","",IF(H7<=I7,"OK","要確認")) -> OK | K7: サージ電圧の定格 79 V
A8: 2 | B8: C2 | C8: EEE-FK1J470P | D8: リップル電流 | E8: 0.18700573 | F8: 0.26 | G8: A | H8: =IF(F8=0,"",E8/F8) -> 0.71925281 | I8: 0.8 | J8: =IF(H8="","",IF(H8<=I8,"OK","要確認")) -> OK | K8: セラミックとの分流
A9: 3 | B9: C3 | C9: GRM32ER72A225KA35L | D9: 電圧 | E9: 53.3 | F9: 100 | G9: V | H9: =IF(F9=0,"",E9/F9) -> 0.533 | I9: 0.8 | J9: =IF(H9="","",IF(H9<=I9,"OK","要確認")) -> OK
A10: 3 | B10: C3 | C10: GRM32ER72A225KA35L | D10: リップル電流(6 個で分担) | E10: 0.25 | F10: 1.5 | G10: A | H10: =IF(F10=0,"",E10/F10) -> 0.16666667 | I10: 0.8 | J10: =IF(H10="","",IF(H10<=I10,"OK","要確認")) -> OK | K10: 1210 X7R の目安 1.5 A(Murata の発熱の特性で要確認)
A11: 3 | B11: C4 | C11: GRM32ER72A225KA35L | D11: 電圧 | E11: 53.3 | F11: 100 | G11: V | H11: =IF(F11=0,"",E11/F11) -> 0.533 | I11: 0.8 | J11: =IF(H11="","",IF(H11<=I11,"OK","要確認")) -> OK
A12: 3 | B12: C4 | C12: GRM32ER72A225KA35L | D12: リップル電流(6 個で分担) | E12: 0.25 | F12: 1.5 | G12: A | H12: =IF(F12=0,"",E12/F12) -> 0.16666667 | I12: 0.8 | J12: =IF(H12="","",IF(H12<=I12,"OK","要確認")) -> OK | K12: 1210 X7R の目安 1.5 A(Murata の発熱の特性で要確認)
A13: 3 | B13: C5 | C13: GRM32ER72A225KA35L | D13: 電圧 | E13: 53.3 | F13: 100 | G13: V | H13: =IF(F13=0,"",E13/F13) -> 0.533 | I13: 0.8 | J13: =IF(H13="","",IF(H13<=I13,"OK","要確認")) -> OK
A14: 3 | B14: C5 | C14: GRM32ER72A225KA35L | D14: リップル電流(6 個で分担) | E14: 0.25 | F14: 1.5 | G14: A | H14: =IF(F14=0,"",E14/F14) -> 0.16666667 | I14: 0.8 | J14: =IF(H14="","",IF(H14<=I14,"OK","要確認")) -> OK | K14: 1210 X7R の目安 1.5 A(Murata の発熱の特性で要確認)
A15: 3 | B15: C6 | C15: GRM32ER72A225KA35L | D15: 電圧 | E15: 53.3 | F15: 100 | G15: V | H15: =IF(F15=0,"",E15/F15) -> 0.533 | I15: 0.8 | J15: =IF(H15="","",IF(H15<=I15,"OK","要確認")) -> OK
A16: 3 | B16: C6 | C16: GRM32ER72A225KA35L | D16: リップル電流(6 個で分担) | E16: 0.25 | F16: 1.5 | G16: A | H16: =IF(F16=0,"",E16/F16) -> 0.16666667 | I16: 0.8 | J16: =IF(H16="","",IF(H16<=I16,"OK","要確認")) -> OK | K16: 1210 X7R の目安 1.5 A(Murata の発熱の特性で要確認)
A17: 3 | B17: C7 | C17: GRM32ER72A225KA35L | D17: 電圧 | E17: 53.3 | F17: 100 | G17: V | H17: =IF(F17=0,"",E17/F17) -> 0.533 | I17: 0.8 | J17: =IF(H17="","",IF(H17<=I17,"OK","要確認")) -> OK
A18: 3 | B18: C7 | C18: GRM32ER72A225KA35L | D18: リップル電流(6 個で分担) | E18: 0.25 | F18: 1.5 | G18: A | H18: =IF(F18=0,"",E18/F18) -> 0.16666667 | I18: 0.8 | J18: =IF(H18="","",IF(H18<=I18,"OK","要確認")) -> OK | K18: 1210 X7R の目安 1.5 A(Murata の発熱の特性で要確認)
A19: 3 | B19: C8 | C19: GRM32ER72A225KA35L | D19: 電圧 | E19: 53.3 | F19: 100 | G19: V | H19: =IF(F19=0,"",E19/F19) -> 0.533 | I19: 0.8 | J19: =IF(H19="","",IF(H19<=I19,"OK","要確認")) -> OK
A20: 3 | B20: C8 | C20: GRM32ER72A225KA35L | D20: リップル電流(6 個で分担) | E20: 0.25 | F20: 1.5 | G20: A | H20: =IF(F20=0,"",E20/F20) -> 0.16666667 | I20: 0.8 | J20: =IF(H20="","",IF(H20<=I20,"OK","要確認")) -> OK | K20: 1210 X7R の目安 1.5 A(Murata の発熱の特性で要確認)
A21: 4 | B21: C9 | C21: GRM188R71H104KA93D | D21: 電圧 | E21: 6 | F21: 50 | G21: V | H21: =IF(F21=0,"",E21/F21) -> 0.12 | I21: 0.8 | J21: =IF(H21="","",IF(H21<=I21,"OK","要確認")) -> OK
A22: 4 | B22: C16 | C22: GRM188R71H104KA93D | D22: 電圧 | E22: 6 | F22: 50 | G22: V | H22: =IF(F22=0,"",E22/F22) -> 0.12 | I22: 0.8 | J22: =IF(H22="","",IF(H22<=I22,"OK","要確認")) -> OK
A23: 4 | B23: C29 | C23: GRM188R71H104KA93D | D23: 電圧 | E23: 3.3 | F23: 50 | G23: V | H23: =IF(F23=0,"",E23/F23) -> 0.066 | I23: 0.8 | J23: =IF(H23="","",IF(H23<=I23,"OK","要確認")) -> OK
A24: 4 | B24: C31 | C24: GRM188R71H104KA93D | D24: 電圧 | E24: 3.3 | F24: 50 | G24: V | H24: =IF(F24=0,"",E24/F24) -> 0.066 | I24: 0.8 | J24: =IF(H24="","",IF(H24<=I24,"OK","要確認")) -> OK
A25: 4 | B25: C32 | C25: GRM188R71H104KA93D | D25: 電圧 | E25: 12.348525 | F25: 50 | G25: V | H25: =IF(F25=0,"",E25/F25) -> 0.24697051 | I25: 0.8 | J25: =IF(H25="","",IF(H25<=I25,"OK","要確認")) -> OK
A26: 4 | B26: C33 | C26: GRM188R71H104KA93D | D26: 電圧 | E26: 3.3 | F26: 50 | G26: V | H26: =IF(F26=0,"",E26/F26) -> 0.066 | I26: 0.8 | J26: =IF(H26="","",IF(H26<=I26,"OK","要確認")) -> OK
A27: 4 | B27: C34 | C27: GRM188R71H104KA93D | D27: 電圧 | E27: 3.3 | F27: 50 | G27: V | H27: =IF(F27=0,"",E27/F27) -> 0.066 | I27: 0.8 | J27: =IF(H27="","",IF(H27<=I27,"OK","要確認")) -> OK
A28: 4 | B28: C35 | C28: GRM188R71H104KA93D | D28: 電圧 | E28: 3.3 | F28: 50 | G28: V | H28: =IF(F28=0,"",E28/F28) -> 0.066 | I28: 0.8 | J28: =IF(H28="","",IF(H28<=I28,"OK","要確認")) -> OK
A29: 4 | B29: C36 | C29: GRM188R71H104KA93D | D29: 電圧 | E29: 3.3 | F29: 50 | G29: V | H29: =IF(F29=0,"",E29/F29) -> 0.066 | I29: 0.8 | J29: =IF(H29="","",IF(H29<=I29,"OK","要確認")) -> OK
A30: 4 | B30: C39 | C30: GRM188R71H104KA93D | D30: 電圧 | E30: 3.3 | F30: 50 | G30: V | H30: =IF(F30=0,"",E30/F30) -> 0.066 | I30: 0.8 | J30: =IF(H30="","",IF(H30<=I30,"OK","要確認")) -> OK
A31: 5 | B31: C10 | C31: GRM32ER71E226KE15L | D31: 電圧 | E31: 12.348525 | F31: 25 | G31: V | H31: =IF(F31=0,"",E31/F31) -> 0.49394101 | I31: 0.8 | J31: =IF(H31="","",IF(H31<=I31,"OK","要確認")) -> OK
A32: 5 | B32: C10 | C32: GRM32ER71E226KE15L | D32: 電圧(回生のとき) | E32: 15.9 | F32: 25 | G32: V | H32: =IF(F32=0,"",E32/F32) -> 0.636 | I32: 0.8 | J32: =IF(H32="","",IF(H32<=I32,"OK","要確認")) -> OK | K32: TVS D5 が電流を流し始める電圧(VBR 最大)
A33: 5 | B33: C11 | C33: GRM32ER71E226KE15L | D33: 電圧 | E33: 12.348525 | F33: 25 | G33: V | H33: =IF(F33=0,"",E33/F33) -> 0.49394101 | I33: 0.8 | J33: =IF(H33="","",IF(H33<=I33,"OK","要確認")) -> OK
A34: 5 | B34: C11 | C34: GRM32ER71E226KE15L | D34: 電圧(回生のとき) | E34: 15.9 | F34: 25 | G34: V | H34: =IF(F34=0,"",E34/F34) -> 0.636 | I34: 0.8 | J34: =IF(H34="","",IF(H34<=I34,"OK","要確認")) -> OK | K34: TVS D5 が電流を流し始める電圧(VBR 最大)
A35: 5 | B35: C12 | C35: GRM32ER71E226KE15L | D35: 電圧 | E35: 12.348525 | F35: 25 | G35: V | H35: =IF(F35=0,"",E35/F35) -> 0.49394101 | I35: 0.8 | J35: =IF(H35="","",IF(H35<=I35,"OK","要確認")) -> OK
A36: 5 | B36: C12 | C36: GRM32ER71E226KE15L | D36: 電圧(回生のとき) | E36: 15.9 | F36: 25 | G36: V | H36: =IF(F36=0,"",E36/F36) -> 0.636 | I36: 0.8 | J36: =IF(H36="","",IF(H36<=I36,"OK","要確認")) -> OK | K36: TVS D5 が電流を流し始める電圧(VBR 最大)
A37: 6 | B37: C13 | C37: GRM188R71H473KA61D | D37: 電圧 | E37: 3 | F37: 50 | G37: V | H37: =IF(F37=0,"",E37/F37) -> 0.06 | I37: 0.8 | J37: =IF(H37="","",IF(H37<=I37,"OK","要確認")) -> OK
A38: 7 | B38: C14 | C38: GRM1885C1H221JA01D | D38: 電圧 | E38: 3 | F38: 50 | G38: V | H38: =IF(F38=0,"",E38/F38) -> 0.06 | I38: 0.8 | J38: =IF(H38="","",IF(H38<=I38,"OK","要確認")) -> OK
A39: 7 | B39: C37 | C39: GRM1885C1H221JA01D | D39: 電圧 | E39: 5 | F39: 50 | G39: V | H39: =IF(F39=0,"",E39/F39) -> 0.1 | I39: 0.8 | J39: =IF(H39="","",IF(H39<=I39,"OK","要確認")) -> OK
A40: 7 | B40: C38 | C40: GRM1885C1H221JA01D | D40: 電圧 | E40: 5 | F40: 50 | G40: V | H40: =IF(F40=0,"",E40/F40) -> 0.1 | I40: 0.8 | J40: =IF(H40="","",IF(H40<=I40,"OK","要確認")) -> OK
A41: 8 | B41: C15 | C41: GRM31CR71E106KA12L | D41: 電圧 | E41: 12.348525 | F41: 25 | G41: V | H41: =IF(F41=0,"",E41/F41) -> 0.49394101 | I41: 0.8 | J41: =IF(H41="","",IF(H41<=I41,"OK","要確認")) -> OK
A42: 8 | B42: C23 | C42: GRM31CR71E106KA12L | D42: 電圧 | E42: 12.348525 | F42: 25 | G42: V | H42: =IF(F42=0,"",E42/F42) -> 0.49394101 | I42: 0.8 | J42: =IF(H42="","",IF(H42<=I42,"OK","要確認")) -> OK
A43: 8 | B43: C24 | C43: GRM31CR71E106KA12L | D43: 電圧 | E43: 12.348525 | F43: 25 | G43: V | H43: =IF(F43=0,"",E43/F43) -> 0.49394101 | I43: 0.8 | J43: =IF(H43="","",IF(H43<=I43,"OK","要確認")) -> OK
A44: 9 | B44: C17 | C44: GRM31CR71A226KE15L | D44: 電圧 | E44: 3.3 | F44: 10 | G44: V | H44: =IF(F44=0,"",E44/F44) -> 0.33 | I44: 0.8 | J44: =IF(H44="","",IF(H44<=I44,"OK","要確認")) -> OK
A45: 9 | B45: C18 | C45: GRM31CR71A226KE15L | D45: 電圧 | E45: 3.3 | F45: 10 | G45: V | H45: =IF(F45=0,"",E45/F45) -> 0.33 | I45: 0.8 | J45: =IF(H45="","",IF(H45<=I45,"OK","要確認")) -> OK
A46: 10 | B46: C19 | C46: GRM1885C1H560JA01D | D46: 電圧 | E46: 3.3 | F46: 50 | G46: V | H46: =IF(F46=0,"",E46/F46) -> 0.066 | I46: 0.8 | J46: =IF(H46="","",IF(H46<=I46,"OK","要確認")) -> OK
A47: 11 | B47: C20 | C47: GRM188R61E225KA12D | D47: 電圧 | E47: 12.348525 | F47: 25 | G47: V | H47: =IF(F47=0,"",E47/F47) -> 0.49394101 | I47: 0.8 | J47: =IF(H47="","",IF(H47<=I47,"OK","要確認")) -> OK
A48: 11 | B48: C21 | C48: GRM188R61E225KA12D | D48: 電圧 | E48: 5 | F48: 25 | G48: V | H48: =IF(F48=0,"",E48/F48) -> 0.2 | I48: 0.8 | J48: =IF(H48="","",IF(H48<=I48,"OK","要確認")) -> OK
A49: 12 | B49: C22 | C49: EEH-ZA1E331P | D49: 電圧(回生のとき) | E49: 15.9 | F49: 25 | G49: V | H49: =IF(F49=0,"",E49/F49) -> 0.636 | I49: 0.8 | J49: =IF(H49="","",IF(H49<=I49,"OK","要確認")) -> OK | K49: TVS D5 の VBR 最大
A50: 12 | B50: C22 | C50: EEH-ZA1E331P | D50: リップル電流(定格 1.5 A) | E50: 0.75 | F50: 2.5 | G50: A | H50: =IF(F50=0,"",E50/F50) -> 0.3 | I50: 0.8 | J50: =IF(H50="","",IF(H50<=I50,"OK","要確認")) -> OK | K50: I·√(D(1−D))
A51: 12 | B51: C22 | C51: EEH-ZA1E331P | D51: リップル電流(起動 6 A・短時間) | E51: 2.4 | F51: 2.5 | G51: A | H51: =IF(F51=0,"",E51/F51) -> 0.96 | I51: 1 | J51: =IF(H51="","",IF(H51<=I51,"OK","要確認")) -> OK | K51: 数十 ms の間だけ
A52: 13 | B52: C25 | C52: GRM188R71E105KA12D | D52: 電圧 | E52: 12.348525 | F52: 25 | G52: V | H52: =IF(F52=0,"",E52/F52) -> 0.49394101 | I52: 0.8 | J52: =IF(H52="","",IF(H52<=I52,"OK","要確認")) -> OK
A53: 13 | B53: C26 | C53: GRM188R71E105KA12D | D53: 電圧 | E53: 12.348525 | F53: 25 | G53: V | H53: =IF(F53=0,"",E53/F53) -> 0.49394101 | I53: 0.8 | J53: =IF(H53="","",IF(H53<=I53,"OK","要確認")) -> OK
A54: 13 | B54: C27 | C54: GRM188R71E105KA12D | D54: 電圧 | E54: 11.3 | F54: 25 | G54: V | H54: =IF(F54=0,"",E54/F54) -> 0.452 | I54: 0.8 | J54: =IF(H54="","",IF(H54<=I54,"OK","要確認")) -> OK
A55: 13 | B55: C28 | C55: GRM188R71E105KA12D | D55: 電圧 | E55: 11.3 | F55: 25 | G55: V | H55: =IF(F55=0,"",E55/F55) -> 0.452 | I55: 0.8 | J55: =IF(H55="","",IF(H55<=I55,"OK","要確認")) -> OK
A56: 14 | B56: C30 | C56: GRM1885C1H102JA01D | D56: 電圧 | E56: 3.3 | F56: 50 | G56: V | H56: =IF(F56=0,"",E56/F56) -> 0.066 | I56: 0.8 | J56: =IF(H56="","",IF(H56<=I56,"OK","要確認")) -> OK
A57: 15 | B57: D1 | C57: SMBJ33A | D57: 定常の電圧 / VRWM | E57: 30 | F57: 33 | G57: V | H57: =IF(F57=0,"",E57/F57) -> 0.90909091 | I57: 0.95 | J57: =IF(H57="","",IF(H57<=I57,"OK","要確認")) -> OK | K57: 30 V では電流が流れない
A58: 16 | B58: D2 | C58: BZT52C12-7-F | D58: 電力 | E58: 0.0091046809 | F58: 0.5 | G58: W | H58: =IF(F58=0,"",E58/F58) -> 0.018209362 | I58: 0.5 | J58: =IF(H58="","",IF(H58<=I58,"OK","要確認")) -> OK | K58: サージ時のツェナー電流 × 12 V
A59: 17 | B59: D3 | C59: B560C-13-F | D59: 逆電圧(サージ) | E59: 53.3 | F59: 60 | G59: V | H59: =IF(F59=0,"",E59/F59) -> 0.88833333 | I59: 0.9 | J59: =IF(H59="","",IF(H59<=I59,"OK","要確認")) -> OK
A60: 17 | B60: D3 | C60: B560C-13-F | D60: 平均電流 | E60: 1.7476992 | F60: 5 | G60: A | H60: =IF(F60=0,"",E60/F60) -> 0.34953984 | I60: 0.8 | J60: =IF(H60="","",IF(H60<=I60,"OK","要確認")) -> OK
A61: 17 | B61: D3 | C61: B560C-13-F | D61: 接合温度 | E61: 115.82623 | F61: 150 | G61: °C | H61: =IF(F61=0,"",E61/F61) -> 0.77217488 | I61: 0.85 | J61: =IF(H61="","",IF(H61<=I61,"OK","要確認")) -> OK
A62: 18 | B62: D4 | C62: LTST-C191KGKT | D62: 電流 | E62: 0.0013 | F62: 0.02 | G62: A | H62: =IF(F62=0,"",E62/F62) -> 0.065 | I62: 0.8 | J62: =IF(H62="","",IF(H62<=I62,"OK","要確認")) -> OK
A63: 19 | B63: D5 | C63: SMBJ13A | D63: 定常の電圧 / VRWM | E63: 12.348525 | F63: 13 | G63: V | H63: =IF(F63=0,"",E63/F63) -> 0.94988656 | I63: 0.97 | J63: =IF(H63="","",IF(H63<=I63,"OK","要確認")) -> OK | K63: 12.35 V(出力の上限)でも電流は流れない
A64: 20 | B64: D6 | C64: 1N4148WS-7-F | D64: 逆電圧 | E64: 21.5 | F64: 75 | G64: V | H64: =IF(F64=0,"",E64/F64) -> 0.28666667 | I64: 0.8 | J64: =IF(H64="","",IF(H64<=I64,"OK","要確認")) -> OK
A65: 20 | B65: D6 | C65: 1N4148WS-7-F | D65: 平均電流 | E65: 0.00086 | F65: 0.15 | G65: A | H65: =IF(F65=0,"",E65/F65) -> 0.0057333333 | I65: 0.8 | J65: =IF(H65="","",IF(H65<=I65,"OK","要確認")) -> OK
A66: 20 | B66: D7 | C66: 1N4148WS-7-F | D66: 逆電圧 | E66: 21.5 | F66: 75 | G66: V | H66: =IF(F66=0,"",E66/F66) -> 0.28666667 | I66: 0.8 | J66: =IF(H66="","",IF(H66<=I66,"OK","要確認")) -> OK
A67: 20 | B67: D7 | C67: 1N4148WS-7-F | D67: 平均電流 | E67: 0.00086 | F67: 0.15 | G67: A | H67: =IF(F67=0,"",E67/F67) -> 0.0057333333 | I67: 0.8 | J67: =IF(H67="","",IF(H67<=I67,"OK","要確認")) -> OK
A68: 21 | B68: D8 | C68: LTST-C191KRKT | D68: 電流 | E68: 0.0013 | F68: 0.02 | G68: A | H68: =IF(F68=0,"",E68/F68) -> 0.065 | I68: 0.8 | J68: =IF(H68="","",IF(H68<=I68,"OK","要確認")) -> OK
A69: 22 | B69: F1 | C69: 0451005.MRL | D69: 電流(連続) | E69: 2.1432091 | F69: 3.75 | G69: A | H69: =IF(F69=0,"",E69/F69) -> 0.57152242 | I69: 0.8 | J69: =IF(H69="","",IF(H69<=I69,"OK","要確認")) -> OK | K69: 定格の 75 % を連続の上限とする
A70: 22 | B70: F1 | C70: 0451005.MRL | D70: 電圧 | E70: 53.3 | F70: 125 | G70: V | H70: =IF(F70=0,"",E70/F70) -> 0.4264 | I70: 0.8 | J70: =IF(H70="","",IF(H70<=I70,"OK","要確認")) -> OK
A71: 24 | B71: J1 | C71: 1715721 | D71: 電流 | E71: 3.5720151 | F71: 17.5 | G71: A | H71: =IF(F71=0,"",E71/F71) -> 0.20411515 | I71: 0.5 | J71: =IF(H71="","",IF(H71<=I71,"OK","要確認")) -> OK | K71: 起動時の入力電流
A72: 24 | B72: J1 | C72: 1715721 | D72: 電圧 | E72: 53.3 | F72: 250 | G72: V | H72: =IF(F72=0,"",E72/F72) -> 0.2132 | I72: 0.8 | J72: =IF(H72="","",IF(H72<=I72,"OK","要確認")) -> OK
A73: 25 | B73: J2 | C73: 61201421621 | D73: 電流(1 ピン) | E73: 0.1 | F73: 3 | G73: A | H73: =IF(F73=0,"",E73/F73) -> 0.033333333 | I73: 0.5 | J73: =IF(H73="","",IF(H73<=I73,"OK","要確認")) -> OK | K73: +3V3 の供給は 100 mA までとする
A74: 26 | B74: J3 | C74: 1715721 | D74: 電流(起動) | E74: 6 | F74: 17.5 | G74: A | H74: =IF(F74=0,"",E74/F74) -> 0.34285714 | I74: 0.5 | J74: =IF(H74="","",IF(H74<=I74,"OK","要確認")) -> OK
A75: 27 | B75: J4 | C75: B4B-XH-A(LF)(SN) | D75: 電流 | E75: 0.05 | F75: 3 | G75: A | H75: =IF(F75=0,"",E75/F75) -> 0.016666667 | I75: 0.5 | J75: =IF(H75="","",IF(H75<=I75,"OK","要確認")) -> OK
A76: 28 | B76: J5 | C76: B4B-PH-K-S(LF)(SN) | D76: 電流 | E76: 0.1 | F76: 2 | G76: A | H76: =IF(F76=0,"",E76/F76) -> 0.05 | I76: 0.5 | J76: =IF(H76="","",IF(H76<=I76,"OK","要確認")) -> OK
A77: 29 | B77: L1 | C77: SRP1265A-220M | D77: ピーク電流(起動時) | E77: 5.4092702 | F77: 12 | G77: A | H77: =IF(F77=0,"",E77/F77) -> 0.45077251 | I77: 0.8 | J77: =IF(H77="","",IF(H77<=I77,"OK","要確認")) -> OK | K77: 飽和電流 Isat
A78: 29 | B78: L1 | C78: SRP1265A-220M | D78: 実効電流 | E78: 3.0092913 | F78: 9 | G78: A | H78: =IF(F78=0,"",E78/F78) -> 0.3343657 | I78: 0.8 | J78: =IF(H78="","",IF(H78<=I78,"OK","要確認")) -> OK
A79: 30 | B79: L2 | C79: SRN6045TA-100M | D79: ピーク電流 | E79: 0.74181133 | F79: 4.6 | G79: A | H79: =IF(F79=0,"",E79/F79) -> 0.16126333 | I79: 0.8 | J79: =IF(H79="","",IF(H79<=I79,"OK","要確認")) -> OK
A80: 30 | B80: L2 | C80: SRN6045TA-100M | D80: 短絡(電流制限の最大) | E80: 3.9 | F80: 4.6 | G80: A | H80: =IF(F80=0,"",E80/F80) -> 0.84782609 | I80: 1 | J80: =IF(H80="","",IF(H80<=I80,"OK","要確認")) -> OK
A81: 31 | B81: Q1 | C81: SQD50P06-15L-GE3 | D81: VDS | E81: 53.3 | F81: 60 | G81: V | H81: =IF(F81=0,"",E81/F81) -> 0.88833333 | I81: 0.9 | J81: =IF(H81="","",IF(H81<=I81,"OK","要確認")) -> OK | K81: サージのクランプ電圧
A82: 31 | B82: Q1 | C82: SQD50P06-15L-GE3 | D82: VGS | E82: 12 | F82: 20 | G82: V | H82: =IF(F82=0,"",E82/F82) -> 0.6 | I82: 0.8 | J82: =IF(H82="","",IF(H82<=I82,"OK","要確認")) -> OK | K82: ツェナーで 12 V に抑える
A83: 31 | B83: Q1 | C83: SQD50P06-15L-GE3 | D83: 接合温度 | E83: 55.971349 | F83: 175 | G83: °C | H83: =IF(F83=0,"",E83/F83) -> 0.31983628 | I83: 0.75 | J83: =IF(H83="","",IF(H83<=I83,"OK","要確認")) -> OK
A84: 31 | B84: Q2 | C84: SQD50P06-15L-GE3 | D84: VDS | E84: 53.3 | F84: 60 | G84: V | H84: =IF(F84=0,"",E84/F84) -> 0.88833333 | I84: 0.9 | J84: =IF(H84="","",IF(H84<=I84,"OK","要確認")) -> OK | K84: サージのクランプ電圧
A85: 31 | B85: Q2 | C85: SQD50P06-15L-GE3 | D85: VGS | E85: 12 | F85: 20 | G85: V | H85: =IF(F85=0,"",E85/F85) -> 0.6 | I85: 0.8 | J85: =IF(H85="","",IF(H85<=I85,"OK","要確認")) -> OK | K85: ツェナーで 12 V に抑える
A86: 31 | B86: Q2 | C86: SQD50P06-15L-GE3 | D86: 接合温度 | E86: 55.971349 | F86: 175 | G86: °C | H86: =IF(F86=0,"",E86/F86) -> 0.31983628 | I86: 0.75 | J86: =IF(H86="","",IF(H86<=I86,"OK","要確認")) -> OK
A87: 32 | B87: Q3 | C87: CSD18531Q5A | D87: VDS(回生のとき) | E87: 21.5 | F87: 60 | G87: V | H87: =IF(F87=0,"",E87/F87) -> 0.35833333 | I87: 0.8 | J87: =IF(H87="","",IF(H87<=I87,"OK","要確認")) -> OK
A88: 32 | B88: Q3 | C88: CSD18531Q5A | D88: ID(起動 6 A) | E88: 6 | F88: 19 | G88: A | H88: =IF(F88=0,"",E88/F88) -> 0.31578947 | I88: 0.8 | J88: =IF(H88="","",IF(H88<=I88,"OK","要確認")) -> OK | K88: RθJA で決まる連続の値に対して
A89: 32 | B89: Q3 | C89: CSD18531Q5A | D89: ID(短絡のピーク) | E89: 50.4 | F89: 400 | G89: A | H89: =IF(F89=0,"",E89/F89) -> 0.126 | I89: 0.8 | J89: =IF(H89="","",IF(H89<=I89,"OK","要確認")) -> OK | K89: パルスの定格 400 A(100 µs)
A90: 32 | B90: Q3 | C90: CSD18531Q5A | D90: 接合温度(6 A が続いたとき) | E90: 70.450083 | F90: 150 | G90: °C | H90: =IF(F90=0,"",E90/F90) -> 0.46966722 | I90: 0.85 | J90: =IF(H90="","",IF(H90<=I90,"OK","要確認")) -> OK
A91: 32 | B91: Q4 | C91: CSD18531Q5A | D91: VDS(回生のとき) | E91: 21.5 | F91: 60 | G91: V | H91: =IF(F91=0,"",E91/F91) -> 0.35833333 | I91: 0.8 | J91: =IF(H91="","",IF(H91<=I91,"OK","要確認")) -> OK
A92: 32 | B92: Q4 | C92: CSD18531Q5A | D92: ID(起動 6 A) | E92: 6 | F92: 19 | G92: A | H92: =IF(F92=0,"",E92/F92) -> 0.31578947 | I92: 0.8 | J92: =IF(H92="","",IF(H92<=I92,"OK","要確認")) -> OK | K92: RθJA で決まる連続の値に対して
A93: 32 | B93: Q4 | C93: CSD18531Q5A | D93: ID(短絡のピーク) | E93: 50.4 | F93: 400 | G93: A | H93: =IF(F93=0,"",E93/F93) -> 0.126 | I93: 0.8 | J93: =IF(H93="","",IF(H93<=I93,"OK","要確認")) -> OK | K93: パルスの定格 400 A(100 µs)
A94: 32 | B94: Q4 | C94: CSD18531Q5A | D94: 接合温度(6 A が続いたとき) | E94: 70.450083 | F94: 150 | G94: °C | H94: =IF(F94=0,"",E94/F94) -> 0.46966722 | I94: 0.85 | J94: =IF(H94="","",IF(H94<=I94,"OK","要確認")) -> OK
A95: 32 | B95: Q5 | C95: CSD18531Q5A | D95: VDS(回生のとき) | E95: 21.5 | F95: 60 | G95: V | H95: =IF(F95=0,"",E95/F95) -> 0.35833333 | I95: 0.8 | J95: =IF(H95="","",IF(H95<=I95,"OK","要確認")) -> OK
A96: 32 | B96: Q5 | C96: CSD18531Q5A | D96: ID(起動 6 A) | E96: 6 | F96: 19 | G96: A | H96: =IF(F96=0,"",E96/F96) -> 0.31578947 | I96: 0.8 | J96: =IF(H96="","",IF(H96<=I96,"OK","要確認")) -> OK | K96: RθJA で決まる連続の値に対して
A97: 32 | B97: Q5 | C97: CSD18531Q5A | D97: ID(短絡のピーク) | E97: 50.4 | F97: 400 | G97: A | H97: =IF(F97=0,"",E97/F97) -> 0.126 | I97: 0.8 | J97: =IF(H97="","",IF(H97<=I97,"OK","要確認")) -> OK | K97: パルスの定格 400 A(100 µs)
A98: 32 | B98: Q5 | C98: CSD18531Q5A | D98: 接合温度(6 A が続いたとき) | E98: 70.450083 | F98: 150 | G98: °C | H98: =IF(F98=0,"",E98/F98) -> 0.46966722 | I98: 0.85 | J98: =IF(H98="","",IF(H98<=I98,"OK","要確認")) -> OK
A99: 32 | B99: Q6 | C99: CSD18531Q5A | D99: VDS(回生のとき) | E99: 21.5 | F99: 60 | G99: V | H99: =IF(F99=0,"",E99/F99) -> 0.35833333 | I99: 0.8 | J99: =IF(H99="","",IF(H99<=I99,"OK","要確認")) -> OK
A100: 32 | B100: Q6 | C100: CSD18531Q5A | D100: ID(起動 6 A) | E100: 6 | F100: 19 | G100: A | H100: =IF(F100=0,"",E100/F100) -> 0.31578947 | I100: 0.8 | J100: =IF(H100="","",IF(H100<=I100,"OK","要確認")) -> OK | K100: RθJA で決まる連続の値に対して
A101: 32 | B101: Q6 | C101: CSD18531Q5A | D101: ID(短絡のピーク) | E101: 50.4 | F101: 400 | G101: A | H101: =IF(F101=0,"",E101/F101) -> 0.126 | I101: 0.8 | J101: =IF(H101="","",IF(H101<=I101,"OK","要確認")) -> OK | K101: パルスの定格 400 A(100 µs)
...

Sheet ネット表
A1: LP-MD-01 ネット表
A2: ネット名ごとの部品番号.ピン(parts.py から)。回路図と同じつながり。
A4: ネット | B4: 数 | C4: つながり(部品番号.ピン)
A5: +12V | B5: 19 | C5: C10.1, C11.1, C12.1, C15.1, C20.1, C22.+, C23.1, C24.1, C32.1, D5.K, L1.2, Q3.D, Q5.D, R6.1, R12.1, TP2.1, U2.3, U5.6, U11.8
A6: +3V3 | B6: 26 | C6: C17.1, C18.1, C19.1, C29.1, C33.1, C34.1, C35.1, C36.1, C39.1, J2.1, J5.1, L2.2, R9.1, R11.1, R24.1, R27.1, TP3.1, U6.5, U6.7, U7.5, U8.5, U9.2, U9.7, U9.8, U10.5, U12.5
A7: +5V_ENC | B7: 5 | C7: C21.1, J4.1, R33.1, R34.1, U5.1
A8: BOOT12 | B8: 2 | C8: C9.1, U1.1
A9: BOOT33 | B9: 2 | C9: C16.1, U2.6
A10: COMP12 | B10: 3 | C10: C14.1, R8.1, U1.6
A11: CZ12 | B11: 2 | C11: C13.1, R8.2
A12: DIR | B12: 4 | C12: J2.5, R30.1, U7.6, U8.6
A13: EN | B13: 4 | C13: J2.6, R31.1, U9.1, U10.1
A14: EN12 | B14: 3 | C14: R3.2, R4.1, U1.3
A15: EN33 | B15: 1 | C15: U2.5
A16: EN5 | B16: 1 | C16: U5.4
... A68: nSD | B68: 3 | C68: U3.2, U4.2, U10.4

Sheet 注記
A1: LP-MD-01 部品表の注記
A2: 作成 2026-10-20・版 A
A4: 使用率の目安 | B4: 電圧 80 %・抵抗の電力 50 %・接合温度 85 %(÷ 最大)が基本。TVS の VRWM・5 V 入力など設計で決まるものは 95〜97 %。短時間だけのもの(起動のリップル・回生の電圧)は 100 % を目安にして注に書いた。
A5: 温度の前提 | B5: 周囲温度 50 °C。熱抵抗はデータシートの値(基板で変わるものは計算書に仮定を書いた)。
A6: 抵抗 | B6: 特記のないものは Yageo RC0603FR-07 系(0603・±1 %・0.1 W・75 V)。型番の値の部分は 442K → 442K、28.7k → 28K7 のように書く。
A7: コンデンサー | B7: Murata GRM 系。型番の末尾は包装の記号(L・D など)で、手に入る包装に合わせて変えてよい。X7R・X5R は直流バイアスで容量が減る(計算書 2 章)。
A8: 入手 | B8: すべて量産中の一般品(2026-10 時点で主要な通販で扱いがあるもの)。発注の前に在庫と最新のデータシートを確かめること。
A9: 出典 | B9: TPS54560 SLVSBN0C・TPS54202 SLVSD26C・TPS709 SBVS186H・INA240 SBOS662・CSD18531Q5A SLPS324・LM393 SLCS005・SN74LVC2G17・IR2184(S) データシート・SQD50P06-15L(Vishay 69098)・B560C DS13012・SMBJ(Littelfuse)・SRP1265A / SRN6045TA(Bourns)・EEH-ZA / EEE-FK(Panasonic)。
A10: つながりの確かめ | B10: parts.check_netlist() で 1 つの部品にしかつながっていないネットがないことを確かめた(EN33・EN5 は開放で有効のピンなので除く)。回路図(schematic.py)に全部品が載っていることも確かめる。
