Workbook

Sheet 部品表
A1: LP-MD-01 小型 DC モーター駆動基板 — 部品表(BOM) 版 A 2026-10-20
A2: 部品 123 個・65 行。使用率の最大は『定格の確かめ』シートの式から。値は parts.py・design.py と同じ。
A4: 行 | B4: 部品番号 | C4: 数量 | D4: 値 | E4: 型番 | F4: メーカー | G4: パッケージ | H4: 定格 | I4: 説明 | J4: 使用率の最大 | K4: 判定
A5: 1 | B5: C1 | C5: 1 | D5: 100nF | E5: GRM188R72A104KA35D | F5: Murata | G5: 0603 | H5: 100 V ・ X7R | I5: ゲート-出力間(立ち上がりの傾き) | J5: =MAX(定格の確かめ!H5:H5) -> 0.12 | K5: =IF(COUNTIF(定格の確かめ!J5:J5,"要確認")>0,"要確認","OK") -> OK
A6: 2 | B6: C2 | C6: 1 | D6: 47µF | E6: EEE-FK1J470P | F6: Panasonic | G6: SMD 電解 | H6: 63 V ・ 105 °C | I6: 入力のバルク(LC 共振の制動) | J6: =MAX(定格の確かめ!H6:H8) -> 0.71925281 | K6: =IF(COUNTIF(定格の確かめ!J6:J8,"要確認")>0,"要確認","OK") -> OK
A7: 3 | B7: C3–C8 | C7: 6 | D7: 2.2µF | E7: GRM32ER72A225KA35L | F7: Murata | G7: 1210 | H7: 100 V ・ X7R | I7: TPS54560 の入力のセラミック | J7: =MAX(定格の確かめ!H9:H20) -> 0.533 | K7: =IF(COUNTIF(定格の確かめ!J9:J20,"要確認")>0,"要確認","OK") -> OK
A8: 4 | B8: C9, C16, C29, C31–C36, C39 | C8: 10 | D8: 100nF | E8: GRM188R71H104KA93D | F8: Murata | G8: 0603 | H8: 50 V ・ X7R | I8: FPGA へのアナログのフィルター(1.6 kHz) / INA240 の電源 / LM393 の電源 ほか | J8: =MAX(定格の確かめ!H21:H30) -> 0.24697051 | K8: =IF(COUNTIF(定格の確かめ!J21:J30,"要確認")>0,"要確認","OK") -> OK
A9: 5 | B9: C10–C12 | C9: 3 | D9: 22µF | E9: GRM32ER71E226KE15L | F9: Murata | G9: 1210 | H9: 25 V ・ X7R | I9: 12 V の出力のセラミック | J9: =MAX(定格の確かめ!H31:H36) -> 0.636 | K9: =IF(COUNTIF(定格の確かめ!J31:J36,"要確認")>0,"要確認","OK") -> OK
A10: 6 | B10: C13 | C10: 1 | D10: 47nF | E10: GRM188R71H473KA61D | F10: Murata | G10: 0603 | H10: 50 V ・ X7R | I10: 位相補償(ゼロ) | J10: =MAX(定格の確かめ!H37:H37) -> 0.06 | K10: =IF(COUNTIF(定格の確かめ!J37:J37,"要確認")>0,"要確認","OK") -> OK
A11: 7 | B11: C14, C37, C38 | C11: 3 | D11: 220pF | E11: GRM1885C1H221JA01D | F11: Murata | G11: 0603 | H11: 50 V ・ C0G | I11: エンコーダー A のフィルター / エンコーダー B のフィルター / 位相補償(極) | J11: =MAX(定格の確かめ!H38:H40) -> 0.1 | K11: =IF(COUNTIF(定格の確かめ!J38:J40,"要確認")>0,"要確認","OK") -> OK
A12: 8 | B12: C15, C23, C24 | C12: 3 | D12: 10µF | E12: GRM31CR71E106KA12L | F12: Murata | G12: 1206 | H12: 25 V ・ X7R | I12: TPS54202 の入力 / ブリッジの脚の近くのセラミック | J12: =MAX(定格の確かめ!H41:H43) -> 0.49394101 | K12: =IF(COUNTIF(定格の確かめ!J41:J43,"要確認")>0,"要確認","OK") -> OK
A13: 9 | B13: C17, C18 | C13: 2 | D13: 22µF | E13: GRM31CR71A226KE15L | F13: Murata | G13: 1206 | H13: 10 V ・ X7R | I13: 3.3 V の出力 | J13: =MAX(定格の確かめ!H44:H45) -> 0.33 | K13: =IF(COUNTIF(定格の確かめ!J44:J45,"要確認")>0,"要確認","OK") -> OK
A14: 10 | B14: C19 | C14: 1 | D14: 56pF | E14: GRM1885C1H560JA01D | F14: Murata | G14: 0603 | H14: 50 V ・ C0G | I14: 前置き(位相を進める) | J14: =MAX(定格の確かめ!H46:H46) -> 0.066 | K14: =IF(COUNTIF(定格の確かめ!J46:J46,"要確認")>0,"要確認","OK") -> OK
A15: 11 | B15: C20, C21 | C15: 2 | D15: 2.2µF | E15: GRM188R61E225KA12D | F15: Murata | G15: 0603 | H15: 25 V ・ X5R | I15: TPS70950 の入力 / TPS70950 の出力(2.2 µF 以上) | J15: =MAX(定格の確かめ!H47:H48) -> 0.49394101 | K15: =IF(COUNTIF(定格の確かめ!J47:J48,"要確認")>0,"要確認","OK") -> OK
A16: 12 | B16: C22 | C16: 1 | D16: 330µF | E16: EEH-ZA1E331P | F16: Panasonic | G16: φ10 × 10.2 mm | H16: 25 V ・ 2.5 A rms ・ 20 mΩ | I16: H ブリッジのバルク(ハイブリッド高分子) | J16: =MAX(定格の確かめ!H49:H51) -> 0.96 | K16: =IF(COUNTIF(定格の確かめ!J49:J51,"要確認")>0,"要確認","OK") -> OK
A17: 13 | B17: C25–C28 | C17: 4 | D17: 1µF | E17: GRM188R71E105KA12D | F17: Murata | G17: 0603 | H17: 25 V ・ X7R | I17: IR2184 の VCC / ブートストラップのコンデンサー(A 側) / ブートストラップのコンデンサー(B 側) | J17: =MAX(定格の確かめ!H52:H55) -> 0.49394101 | K17: =IF(COUNTIF(定格の確かめ!J52:J55,"要確認")>0,"要確認","OK") -> OK
A18: 14 | B18: C30 | C18: 1 | D18: 1nF | E18: GRM1885C1H102JA01D | F18: Murata | G18: 0603 | H18: 50 V ・ C0G | I18: 比較器の前のノイズ除去(τ = 1 µs) | J18: =MAX(定格の確かめ!H56:H56) -> 0.066 | K18: =IF(COUNTIF(定格の確かめ!J56:J56,"要確認")>0,"要確認","OK") -> OK
A19: 15 | B19: D1 | C19: 1 | D19: SMBJ33A | E19: SMBJ33A | F19: Littelfuse | G19: SMB (DO-214AA) | H19: VRWM 33 V ・ VC 53.3 V @ 11.3 A | I19: 入力の過電圧を抑える TVS(600 W) | J19: =MAX(定格の確かめ!H57:H57) -> 0.90909091 | K19: =IF(COUNTIF(定格の確かめ!J57:J57,"要確認")>0,"要確認","OK") -> OK
A20: 16 | B20: D2 | C20: 1 | D20: BZT52C12 | E20: BZT52C12-7-F | F20: Diodes Inc. | G20: SOD-123 | H20: 12 V ・ 500 mW | I20: P-MOSFET のゲート保護ツェナー(12 V) | J20: =MAX(定格の確かめ!H58:H58) -> 0.018209362 | K20: =IF(COUNTIF(定格の確かめ!J58:J58,"要確認")>0,"要確認","OK") -> OK
A21: 17 | B21: D3 | C21: 1 | D21: B560C | E21: B560C-13-F | F21: Diodes Inc. | G21: SMC (DO-214AB) | H21: 60 V ・ 5 A | I21: 降圧の整流ショットキー(60 V・5 A) | J21: =MAX(定格の確かめ!H59:H61) -> 0.88833333 | K21: =IF(COUNTIF(定格の確かめ!J59:J61,"要確認")>0,"要確認","OK") -> OK
A22: 18 | B22: D4 | C22: 1 | D22: 緑 | E22: LTST-C191KGKT | F22: Lite-On | G22: 0603 | H22: 20 mA | I22: 3.3 V の表示(PWR) | J22: =MAX(定格の確かめ!H62:H62) -> 0.065 | K22: =IF(COUNTIF(定格の確かめ!J62:J62,"要確認")>0,"要確認","OK") -> OK
A23: 19 | B23: D5 | C23: 1 | D23: SMBJ13A | E23: SMBJ13A | F23: Littelfuse | G23: SMB (DO-214AA) | H23: VRWM 13 V ・ VC 21.5 V @ 27.9 A | I23: 回生で 12 V が上がるのを抑える TVS | J23: =MAX(定格の確かめ!H63:H63) -> 0.94988656 | K23: =IF(COUNTIF(定格の確かめ!J63:J63,"要確認")>0,"要確認","OK") -> OK
A24: 20 | B24: D6, D7 | C24: 2 | D24: 1N4148WS | E24: 1N4148WS-7-F | F24: Diodes Inc. | G24: SOD-323 | H24: 75 V ・ 150 mA ・ trr 4 ns | I24: ブートストラップのダイオード(A 側) / ブートストラップのダイオード(B 側) | J24: =MAX(定格の確かめ!H64:H67) -> 0.28666667 | K24: =IF(COUNTIF(定格の確かめ!J64:J67,"要確認")>0,"要確認","OK") -> OK
A25: 21 | B25: D8 | C25: 1 | D25: 赤 | E25: LTST-C191KRKT | F25: Lite-On | G25: 0603 | H25: 20 mA | I25: 停止中(過電流のラッチ)の表示 | J25: =MAX(定格の確かめ!H68:H68) -> 0.065 | K25: =IF(COUNTIF(定格の確かめ!J68:J68,"要確認")>0,"要確認","OK") -> OK
A26: 22 | B26: F1 | C26: 1 | D26: 5 A | E26: 0451005.MRL | F26: Littelfuse | G26: 2410 (NANO2) | H26: 5 A ・ 125 V ・ 遮断 300 A DC | I26: ヒューズ(速断) | J26: =MAX(定格の確かめ!H69:H70) -> 0.57152242 | K26: =IF(COUNTIF(定格の確かめ!J69:J70,"要確認")>0,"要確認","OK") -> OK
A27: 23 | B27: H1–H4 | C27: 4 | D27: M3 | E27: — | F27: — | G27: Ø3.2 穴・Ø6 ランド | I27: 取付穴(M3) | J27: — | K27: —
A28: 24 | B28: J1 | C28: 1 | D28: 入力 24 V | E28: 1715721 | F28: Phoenix Contact | G28: MKDS 1,5/2-5,08 | H28: 17.5 A ・ 250 V | I28: 電源の入力の端子台(2 極) | J28: =MAX(定格の確かめ!H71:H72) -> 0.2132 | K28: =IF(COUNTIF(定格の確かめ!J71:J72,"要確認")>0,"要確認","OK") -> OK
A29: 25 | B29: J2 | C29: 1 | D29: FPGA 2×7 | E29: 61201421621 | F29: Würth Elektronik | G29: 2 × 7 ボックスヘッダー 2.54 mm | H29: 3 A ・ 250 V | I29: FPGA への接続 | J29: =MAX(定格の確かめ!H73:H73) -> 0.033333333 | K29: =IF(COUNTIF(定格の確かめ!J73:J73,"要確認")>0,"要確認","OK") -> OK
A30: 26 | B30: J3 | C30: 1 | D30: モーター | E30: 1715721 | F30: Phoenix Contact | G30: MKDS 1,5/2-5,08 | H30: 17.5 A ・ 250 V | I30: モーターの端子台(2 極) | J30: =MAX(定格の確かめ!H74:H74) -> 0.34285714 | K30: =IF(COUNTIF(定格の確かめ!J74:J74,"要確認")>0,"要確認","OK") -> OK
A31: 27 | B31: J4 | C31: 1 | D31: エンコーダー | E31: B4B-XH-A(LF)(SN) | F31: JST | G31: XH 4 極 | H31: 3 A ・ 250 V | I31: エンコーダーの接続(5 V・A・B・GND) | J31: =MAX(定格の確かめ!H75:H75) -> 0.016666667 | K31: =IF(COUNTIF(定格の確かめ!J75:J75,"要確認")>0,"要確認","OK") -> OK
A32: 28 | B32: J5 | C32: 1 | D32: UART | E32: B4B-PH-K-S(LF)(SN) | F32: JST | G32: PH 4 極 | H32: 2 A ・ 100 V | I32: UART の外への接続(3.3 V・TX・RX・GND) | J32: =MAX(定格の確かめ!H76:H76) -> 0.05 | K32: =IF(COUNTIF(定格の確かめ!J76:J76,"要確認")>0,"要確認","OK") -> OK
A33: 29 | B33: L1 | C33: 1 | D33: 22µH | E33: SRP1265A-220M | F33: Bourns | G33: 12.5 × 12.5 mm | H33: Isat 12 A ・ Irms 9 A ・ DCR 37 mΩ max | I33: 12 V 降圧のインダクター | J33: =MAX(定格の確かめ!H77:H78) -> 0.45077251 | K33: =IF(COUNTIF(定格の確かめ!J77:J78,"要確認")>0,"要確認","OK") -> OK
A34: 30 | B34: L2 | C34: 1 | D34: 10µH | E34: SRN6045TA-100M | F34: Bourns | G34: 6.0 × 6.0 mm | H34: Isat 4.6 A ・ Irms 3.2 A | I34: 3.3 V 降圧のインダクター | J34: =MAX(定格の確かめ!H79:H80) -> 0.84782609 | K34: =IF(COUNTIF(定格の確かめ!J79:J80,"要確認")>0,"要確認","OK") -> OK
A35: 31 | B35: Q1, Q2 | C35: 2 | D35: SQD50P06-15L | E35: SQD50P06-15L-GE3 | F35: Vishay | G35: DPAK (TO-252) | H35: −60 V ・ −50 A ・ 15.5 mΩ | I35: 突入電流の抑制(ゆっくりオン) / 逆接続の阻止 | J35: =MAX(定格の確かめ!H81:H86) -> 0.88833333 | K35: =IF(COUNTIF(定格の確かめ!J81:J86,"要確認")>0,"要確認","OK") -> OK
A36: 32 | B36: Q3–Q6 | C36: 4 | D36: CSD18531Q5A | E36: CSD18531Q5A | F36: Texas Instruments | G36: SON 5 × 6 mm | H36: 60 V ・ 4.6 mΩ max ・ Qg 36 nC | I36: H ブリッジ A 側のハイサイド / H ブリッジ A 側のローサイド / H ブリッジ B 側のハイサイド ほか | J36: =MAX(定格の確かめ!H87:H102) -> 0.46966722 | K36: =IF(COUNTIF(定格の確かめ!J87:J102,"要確認")>0,"要確認","OK") -> OK
A37: 33 | B37: R1, R9, R17–R20, R28–R31 | C37: 10 | D37: 100k | E37: RC0603FR-07100KL | F37: Yageo | G37: 0603 | H37: 1 % ・ 0.1 W ・ 75 V | I37: DIR の引き下げ(FPGA が動く前は止める) / EN の引き下げ(FPGA が動く前は止める) / PWM_A の引き下げ(FPGA が動く前は止める) ほか | J37: =MAX(定格の確かめ!H103:H122) -> 0.16 | K37: =IF(COUNTIF(定格の確かめ!J103:J122,"要確認")>0,"要確認","OK") -> OK
A38: 34 | B38: R2 | C38: 1 | D38: 47k | E38: RC0603FR-0747KL | F38: Yageo | G38: 0603 | H38: 1 % ・ 0.1 W ・ 75 V | I38: ゲートの引き下げ(ランプの速さを決める) | J38: =MAX(定格の確かめ!H123:H124) -> 0.55066667 | K38: =IF(COUNTIF(定格の確かめ!J123:J124,"要確認")>0,"要確認","OK") -> OK
A39: 35 | B39: R3 | C39: 1 | D39: 442k | E39: RC0603FR-07442KL | F39: Yageo | G39: 0603 | H39: 1 % ・ 0.1 W ・ 75 V | I39: UVLO の上側 | J39: =MAX(定格の確かめ!H125:H126) -> 0.71066667 | K39: =IF(COUNTIF(定格の確かめ!J125:J126,"要確認")>0,"要確認","OK") -> OK
A40: 36 | B40: R4 | C40: 1 | D40: 34.8k | E40: RC0603FR-0734K8L | F40: Yageo | G40: 0603 | H40: 1 % ・ 0.1 W ・ 75 V | I40: UVLO の下側 | J40: =MAX(定格の確かめ!H127:H128) -> 0.053847745 | K40: =IF(COUNTIF(定格の確かめ!J127:J128,"要確認")>0,"要確認","OK") -> OK
A41: 37 | B41: R5 | C41: 1 | D41: 243k | E41: RC0603FR-07243KL | F41: Yageo | G41: 0603 | H41: 1 % ・ 0.1 W ・ 75 V | I41: スイッチング周波数 400 kHz | J41: =MAX(定格の確かめ!H129:H130) -> 0.0066666667 | K41: =IF(COUNTIF(定格の確かめ!J129:J130,"要確認")>0,"要確認","OK") -> OK
...

Sheet 定格の確かめ
A1: LP-MD-01 定格の確かめ(使用率 = 使用値 ÷ 定格)
A2: 使用率・判定はセルの式。目安を超えると『要確認』。温度は 接合温度 ÷ 最大の接合温度。
A4: 行 | B4: 部品番号 | C4: 型番 | D4: 項目 | E4: 使用値 | F4: 定格 | G4: 単位 | H4: 使用率 | I4: 目安 | J4: 判定 | K4: 根拠・注
A5: 1 | B5: C1 | C5: GRM188R72A104KA35D | D5: 電圧 | E5: 12 | F5: 100 | G5: V | H5: =IF(F5=0,"",E5/F5) -> 0.12 | I5: 0.8 | J5: =IF(H5="","",IF(H5<=I5,"OK","要確認")) -> OK
A6: 2 | B6: C2 | C6: EEE-FK1J470P | D6: 電圧(定常) | E6: 30 | F6: 63 | G6: V | H6: =IF(F6=0,"",E6/F6) -> 0.47619048 | I6: 0.8 | J6: =IF(H6="","",IF(H6<=I6,"OK","要確認")) -> OK
A7: 2 | B7: C2 | C7: EEE-FK1J470P | D7: 電圧(サージ) | E7: 53.3 | F7: 79 | G7: V | H7: =IF(F7=0,"",E7/F7) -> 0.67468354 | I7: 0.9 | J7: =IF(H7="","",IF(H7<=I7,"OK","要確認")) -> OK | K7: サージ電圧の定格 79 V
A8: 2 | B8: C2 | C8: EEE-FK1J470P | D8: リップル電流 | E8: 0.18700573 | F8: 0.26 | G8: A | H8: =IF(F8=0,"",E8/F8) -> 0.71925281 | I8: 0.8 | J8: =IF(H8="","",IF(H8<=I8,"OK","要確認")) -> OK | K8: セラミックとの分流
A9: 3 | B9: C3 | C9: GRM32ER72A225KA35L | D9: 電圧 | E9: 53.3 | F9: 100 | G9: V | H9: =IF(F9=0,"",E9/F9) -> 0.533 | I9: 0.8 | J9: =IF(H9="","",IF(H9<=I9,"OK","要確認")) -> OK
A10: 3 | B10: C3 | C10: GRM32ER72A225KA35L | D10: リップル電流(6 個で分担) | E10: 0.25 | F10: 1.5 | G10: A | H10: =IF(F10=0,"",E10/F10) -> 0.16666667 | I10: 0.8 | J10: =IF(H10="","",IF(H10<=I10,"OK","要確認")) -> OK | K10: 1210 X7R の目安 1.5 A(Murata の発熱の特性で要確認)
A11: 3 | B11: C4 | C11: GRM32ER72A225KA35L | D11: 電圧 | E11: 53.3 | F11: 100 | G11: V | H11: =IF(F11=0,"",E11/F11) -> 0.533 | I11: 0.8 | J11: =IF(H11="","",IF(H11<=I11,"OK","要確認")) -> OK
A12: 3 | B12: C4 | C12: GRM32ER72A225KA35L | D12: リップル電流(6 個で分担) | E12: 0.25 | F12: 1.5 | G12: A | H12: =IF(F12=0,"",E12/F12) -> 0.16666667 | I12: 0.8 | J12: =IF(H12="","",IF(H12<=I12,"OK","要確認")) -> OK | K12: 1210 X7R の目安 1.5 A(Murata の発熱の特性で要確認)
A13: 3 | B13: C5 | C13: GRM32ER72A225KA35L | D13: 電圧 | E13: 53.3 | F13: 100 | G13: V | H13: =IF(F13=0,"",E13/F13) -> 0.533 | I13: 0.8 | J13: =IF(H13="","",IF(H13<=I13,"OK","要確認")) -> OK
A14: 3 | B14: C5 | C14: GRM32ER72A225KA35L | D14: リップル電流(6 個で分担) | E14: 0.25 | F14: 1.5 | G14: A | H14: =IF(F14=0,"",E14/F14) -> 0.16666667 | I14: 0.8 | J14: =IF(H14="","",IF(H14<=I14,"OK","要確認")) -> OK | K14: 1210 X7R の目安 1.5 A(Murata の発熱の特性で要確認)
A15: 3 | B15: C6 | C15: GRM32ER72A225KA35L | D15: 電圧 | E15: 53.3 | F15: 100 | G15: V | H15: =IF(F15=0,"",E15/F15) -> 0.533 | I15: 0.8 | J15: =IF(H15="","",IF(H15<=I15,"OK","要確認")) -> OK
A16: 3 | B16: C6 | C16: GRM32ER72A225KA35L | D16: リップル電流(6 個で分担) | E16: 0.25 | F16: 1.5 | G16: A | H16: =IF(F16=0,"",E16/F16) -> 0.16666667 | I16: 0.8 | J16: =IF(H16="","",IF(H16<=I16,"OK","要確認")) -> OK | K16: 1210 X7R の目安 1.5 A(Murata の発熱の特性で要確認)
A17: 3 | B17: C7 | C17: GRM32ER72A225KA35L | D17: 電圧 | E17: 53.3 | F17: 100 | G17: V | H17: =IF(F17=0,"",E17/F17) -> 0.533 | I17: 0.8 | J17: =IF(H17="","",IF(H17<=I17,"OK","要確認")) -> OK
A18: 3 | B18: C7 | C18: GRM32ER72A225KA35L | D18: リップル電流(6 個で分担) | E18: 0.25 | F18: 1.5 | G18: A | H18: =IF(F18=0,"",E18/F18) -> 0.16666667 | I18: 0.8 | J18: =IF(H18="","",IF(H18<=I18,"OK","要確認")) -> OK | K18: 1210 X7R の目安 1.5 A(Murata の発熱の特性で要確認)
A19: 3 | B19: C8 | C19: GRM32ER72A225KA35L | D19: 電圧 | E19: 53.3 | F19: 100 | G19: V | H19: =IF(F19=0,"",E19/F19) -> 0.533 | I19: 0.8 | J19: =IF(H19="","",IF(H19<=I19,"OK","要確認")) -> OK
A20: 3 | B20: C8 | C20: GRM32ER72A225KA35L | D20: リップル電流(6 個で分担) | E20: 0.25 | F20: 1.5 | G20: A | H20: =IF(F20=0,"",E20/F20) -> 0.16666667 | I20: 0.8 | J20: =IF(H20="","",IF(H20<=I20,"OK","要確認")) -> OK | K20: 1210 X7R の目安 1.5 A(Murata の発熱の特性で要確認)
A21: 4 | B21: C9 | C21: GRM188R71H104KA93D | D21: 電圧 | E21: 6 | F21: 50 | G21: V | H21: =IF(F21=0,"",E21/F21) -> 0.12 | I21: 0.8 | J21: =IF(H21="","",IF(H21<=I21,"OK","要確認")) -> OK
A22: 4 | B22: C16 | C22: GRM188R71H104KA93D | D22: 電圧 | E22: 6 | F22: 50 | G22: V | H22: =IF(F22=0,"",E22/F22) -> 0.12 | I22: 0.8 | J22: =IF(H22="","",IF(H22<=I22,"OK","要確認")) -> OK
A23: 4 | B23: C29 | C23: GRM188R71H104KA93D | D23: 電圧 | E23: 3.3 | F23: 50 | G23: V | H23: =IF(F23=0,"",E23/F23) -> 0.066 | I23: 0.8 | J23: =IF(H23="","",IF(H23<=I23,"OK","要確認")) -> OK
A24: 4 | B24: C31 | C24: GRM188R71H104KA93D | D24: 電圧 | E24: 3.3 | F24: 50 | G24: V | H24: =IF(F24=0,"",E24/F24) -> 0.066 | I24: 0.8 | J24: =IF(H24="","",IF(H24<=I24,"OK","要確認")) -> OK
A25: 4 | B25: C32 | C25: GRM188R71H104KA93D | D25: 電圧 | E25: 12.348525 | F25: 50 | G25: V | H25: =IF(F25=0,"",E25/F25) -> 0.24697051 | I25: 0.8 | J25: =IF(H25="","",IF(H25<=I25,"OK","要確認")) -> OK
A26: 4 | B26: C33 | C26: GRM188R71H104KA93D | D26: 電圧 | E26: 3.3 | F26: 50 | G26: V | H26: =IF(F26=0,"",E26/F26) -> 0.066 | I26: 0.8 | J26: =IF(H26="","",IF(H26<=I26,"OK","要確認")) -> OK
A27: 4 | B27: C34 | C27: GRM188R71H104KA93D | D27: 電圧 | E27: 3.3 | F27: 50 | G27: V | H27: =IF(F27=0,"",E27/F27) -> 0.066 | I27: 0.8 | J27: =IF(H27="","",IF(H27<=I27,"OK","要確認")) -> OK
A28: 4 | B28: C35 | C28: GRM188R71H104KA93D | D28: 電圧 | E28: 3.3 | F28: 50 | G28: V | H28: =IF(F28=0,"",E28/F28) -> 0.066 | I28: 0.8 | J28: =IF(H28="","",IF(H28<=I28,"OK","要確認")) -> OK
A29: 4 | B29: C36 | C29: GRM188R71H104KA93D | D29: 電圧 | E29: 3.3 | F29: 50 | G29: V | H29: =IF(F29=0,"",E29/F29) -> 0.066 | I29: 0.8 | J29: =IF(H29="","",IF(H29<=I29,"OK","要確認")) -> OK
A30: 4 | B30: C39 | C30: GRM188R71H104KA93D | D30: 電圧 | E30: 3.3 | F30: 50 | G30: V | H30: =IF(F30=0,"",E30/F30) -> 0.066 | I30: 0.8 | J30: =IF(H30="","",IF(H30<=I30,"OK","要確認")) -> OK
A31: 5 | B31: C10 | C31: GRM32ER71E226KE15L | D31: 電圧 | E31: 12.348525 | F31: 25 | G31: V | H31: =IF(F31=0,"",E31/F31) -> 0.49394101 | I31: 0.8 | J31: =IF(H31="","",IF(H31<=I31,"OK","要確認")) -> OK
A32: 5 | B32: C10 | C32: GRM32ER71E226KE15L | D32: 電圧(回生のとき) | E32: 15.9 | F32: 25 | G32: V | H32: =IF(F32=0,"",E32/F32) -> 0.636 | I32: 0.8 | J32: =IF(H32="","",IF(H32<=I32,"OK","要確認")) -> OK | K32: TVS D5 が電流を流し始める電圧(VBR 最大)
A33: 5 | B33: C11 | C33: GRM32ER71E226KE15L | D33: 電圧 | E33: 12.348525 | F33: 25 | G33: V | H33: =IF(F33=0,"",E33/F33) -> 0.49394101 | I33: 0.8 | J33: =IF(H33="","",IF(H33<=I33,"OK","要確認")) -> OK
A34: 5 | B34: C11 | C34: GRM32ER71E226KE15L | D34: 電圧(回生のとき) | E34: 15.9 | F34: 25 | G34: V | H34: =IF(F34=0,"",E34/F34) -> 0.636 | I34: 0.8 | J34: =IF(H34="","",IF(H34<=I34,"OK","要確認")) -> OK | K34: TVS D5 が電流を流し始める電圧(VBR 最大)
A35: 5 | B35: C12 | C35: GRM32ER71E226KE15L | D35: 電圧 | E35: 12.348525 | F35: 25 | G35: V | H35: =IF(F35=0,"",E35/F35) -> 0.49394101 | I35: 0.8 | J35: =IF(H35="","",IF(H35<=I35,"OK","要確認")) -> OK
A36: 5 | B36: C12 | C36: GRM32ER71E226KE15L | D36: 電圧(回生のとき) | E36: 15.9 | F36: 25 | G36: V | H36: =IF(F36=0,"",E36/F36) -> 0.636 | I36: 0.8 | J36: =IF(H36="","",IF(H36<=I36,"OK","要確認")) -> OK | K36: TVS D5 が電流を流し始める電圧(VBR 最大)
A37: 6 | B37: C13 | C37: GRM188R71H473KA61D | D37: 電圧 | E37: 3 | F37: 50 | G37: V | H37: =IF(F37=0,"",E37/F37) -> 0.06 | I37: 0.8 | J37: =IF(H37="","",IF(H37<=I37,"OK","要確認")) -> OK
A38: 7 | B38: C14 | C38: GRM1885C1H221JA01D | D38: 電圧 | E38: 3 | F38: 50 | G38: V | H38: =IF(F38=0,"",E38/F38) -> 0.06 | I38: 0.8 | J38: =IF(H38="","",IF(H38<=I38,"OK","要確認")) -> OK
A39: 7 | B39: C37 | C39: GRM1885C1H221JA01D | D39: 電圧 | E39: 5 | F39: 50 | G39: V | H39: =IF(F39=0,"",E39/F39) -> 0.1 | I39: 0.8 | J39: =IF(H39="","",IF(H39<=I39,"OK","要確認")) -> OK
A40: 7 | B40: C38 | C40: GRM1885C1H221JA01D | D40: 電圧 | E40: 5 | F40: 50 | G40: V | H40: =IF(F40=0,"",E40/F40) -> 0.1 | I40: 0.8 | J40: =IF(H40="","",IF(H40<=I40,"OK","要確認")) -> OK
A41: 8 | B41: C15 | C41: GRM31CR71E106KA12L | D41: 電圧 | E41: 12.348525 | F41: 25 | G41: V | H41: =IF(F41=0,"",E41/F41) -> 0.49394101 | I41: 0.8 | J41: =IF(H41="","",IF(H41<=I41,"OK","要確認")) -> OK
...

Sheet ネット表
A1: LP-MD-01 ネット表
A2: ネット名ごとの部品番号.ピン(parts.py から)。回路図と同じつながり。
A4: ネット | B4: 数 | C4: つながり(部品番号.ピン)
A5: +12V | B5: 19 | C5: C10.1, C11.1, C12.1, C15.1, C20.1, C22.+, C23.1, C24.1, C32.1, D5.K, L1.2, Q3.D, Q5.D, R6.1, R12.1, TP2.1, U2.3, U5.6, U11.8
A6: +3V3 | B6: 26 | C6: C17.1, C18.1, C19.1, C29.1, C33.1, C34.1, C35.1, C36.1, C39.1, J2.1, J5.1, L2.2, R9.1, R11.1, R24.1, R27.1, TP3.1, U6.5, U6.7, U7.5, U8.5, U9.2, U9.7, U9.8, U10.5, U12.5
A7: +5V_ENC | B7: 5 | C7: C21.1, J4.1, R33.1, R34.1, U5.1
A8: BOOT12 | B8: 2 | C8: C9.1, U1.1
A9: BOOT33 | B9: 2 | C9: C16.1, U2.6
A10: COMP12 | B10: 3 | C10: C14.1, R8.1, U1.6
A11: CZ12 | B11: 2 | C11: C13.1, R8.2
A12: DIR | B12: 4 | C12: J2.5, R30.1, U7.6, U8.6
A13: EN | B13: 4 | C13: J2.6, R31.1, U9.1, U10.1
A14: EN12 | B14: 3 | C14: R3.2, R4.1, U1.3
A15: EN33 | B15: 1 | C15: U2.5
A16: EN5 | B16: 1 | C16: U5.4
... A68: nSD | B68: 3 | C68: U3.2, U4.2, U10.4

Sheet 注記
A1: LP-MD-01 部品表の注記
A2: 作成 2026-10-20・版 A
A4: 使用率の目安 | B4: 電圧 80 %・抵抗の電力 50 %・接合温度 85 %(÷ 最大)が基本。TVS の VRWM・5 V 入力など設計で決まるものは 95〜97 %。短時間だけのもの(起動のリップル・回生の電圧)は 100 % を目安にして注に書いた。
A5: 温度の前提 | B5: 周囲温度 50 °C。熱抵抗はデータシートの値(基板で変わるものは計算書に仮定を書いた)。
A6: 抵抗 | B6: 特記のないものは Yageo RC0603FR-07 系(0603・±1 %・0.1 W・75 V)。型番の値の部分は 442K → 442K、28.7k → 28K7 のように書く。
A7: コンデンサー | B7: Murata GRM 系。型番の末尾は包装の記号(L・D など)で、手に入る包装に合わせて変えてよい。X7R・X5R は直流バイアスで容量が減る(計算書 2 章)。
A8: 入手 | B8: すべて量産中の一般品(2026-10 時点で主要な通販で扱いがあるもの)。発注の前に在庫と最新のデータシートを確かめること。
A9: 出典 | B9: TPS54560 SLVSBN0C・TPS54202 SLVSD26C・TPS709 SBVS186H・INA240 SBOS662・CSD18531Q5A SLPS324・LM393 SLCS005・SN74LVC2G17・IR2184(S) データシート・SQD50P06-15L(Vishay 69098)・B560C DS13012・SMBJ(Littelfuse)・SRP1265A / SRN6045TA(Bourns)・EEH-ZA / EEE-FK(Panasonic)。
A10: つながりの確かめ | B10: parts.check_netlist() で 1 つの部品にしかつながっていないネットがないことを確かめた(EN33・EN5 は開放で有効のピンなので除く)。回路図(schematic.py)に全部品が載っていることも確かめる。
